BEGIN:VCALENDAR
VERSION:2.0
PRODID:-//Medzi Tatrami - Kresťania - ECPv6.15.11//NONSGML v1.0//EN
CALSCALE:GREGORIAN
METHOD:PUBLISH
X-WR-CALNAME:Medzi Tatrami - Kresťania
X-ORIGINAL-URL:https://www.medzitatrami.sk
X-WR-CALDESC:Udalosti pre Medzi Tatrami - Kresťania
REFRESH-INTERVAL;VALUE=DURATION:PT1H
X-Robots-Tag:noindex
X-PUBLISHED-TTL:PT1H
BEGIN:VTIMEZONE
TZID:Europe/Bratislava
BEGIN:DAYLIGHT
TZOFFSETFROM:+0100
TZOFFSETTO:+0200
TZNAME:CEST
DTSTART:20250330T010000
END:DAYLIGHT
BEGIN:STANDARD
TZOFFSETFROM:+0200
TZOFFSETTO:+0100
TZNAME:CET
DTSTART:20251026T010000
END:STANDARD
BEGIN:DAYLIGHT
TZOFFSETFROM:+0100
TZOFFSETTO:+0200
TZNAME:CEST
DTSTART:20260329T010000
END:DAYLIGHT
BEGIN:STANDARD
TZOFFSETFROM:+0200
TZOFFSETTO:+0100
TZNAME:CET
DTSTART:20261025T010000
END:STANDARD
BEGIN:DAYLIGHT
TZOFFSETFROM:+0100
TZOFFSETTO:+0200
TZNAME:CEST
DTSTART:20270328T010000
END:DAYLIGHT
BEGIN:STANDARD
TZOFFSETFROM:+0200
TZOFFSETTO:+0100
TZNAME:CET
DTSTART:20271031T010000
END:STANDARD
END:VTIMEZONE
BEGIN:VEVENT
DTSTART;VALUE=DATE:20260402
DTEND;VALUE=DATE:20260406
DTSTAMP:20260425T200036
CREATED:20260316T092805Z
LAST-MODIFIED:20260401T113703Z
UID:1192-1775088000-1775433599@www.medzitatrami.sk
SUMMARY:Zaži veľkonočné bohoslužby v Poprade - JEŽIŠ ŽIJE
DESCRIPTION:Zaži veľkonočné bohoslužby v Poprade ✝️ \nPríď osláviť Veľkú noc a pripomenúť si najväčšiu nádej – Ježiš žije a vstal z mŕtvych! 🙌✨Počas veľkonočných dní ťa pozývame na spoločný čas chvál\, svedectiev\, hudby a Božieho slova. \n📅 Program: \n🎶 Veľkonočný štvrtok\nVečer slova a hudby – Noc v Getsemane\n📅 Kedy: Štvrtok (2.4.2026)🕒 Čas: 18:00📍 Miesto: BJB (Jahodná 5) \nTyMy & James Evans –  (Veľkonočný koncert)\n📅 Kedy: Štvrtok (2.4.2026)🕒 Čas: 18:00📍 Miesto: Tatranská galéria (Poprad) \n– \n✝️ Veľký piatok\n\nVeľkonočná bohoslužba\n📅 Kedy: Veľký piatok (3.4.2026)🕒 Čas: 10:00📍 Miesto: BJB (Jahodná 5)\n\nVeľkonočná bohoslužba\n📅 Kedy: Veľký piatok (3.4.2026)🕒 Čas: 16:00📍 Miesto: AC Poprad (Nábrežie Jána Pavla II 439/16\, (Zasadačka 2. poschodie) \n– \nBiela Sobota\n🔥 Sobota – večer svedectiev a chvál📅 Kedy: Veľkonočná sobota (5.3.2026)🕒 Čas: 18:00📍 Miesto: AC Poprad (Nábrežie Jána Pavla II 439/16\,  (Zasadačka 2. poschodie) \n– \n🌅 Veľkonočná nedeľa – slávnostná bohoslužba\n\n📅 Kedy: Veľkonočná nedeľa (6.3.2026)🕒 Čas: 9:30📍 Miesto: Svit\, Celým Srdcom (Kolkáreň Pub) \n📅 Kedy: Veľkonočná nedeľa (6.3.2026)🕒 Čas: 10:00📍 Miesto: AC Poprad (Nábrežie Jána Pavla II 439/16\, (Zasadačka 2. poschodie) \n📅 Kedy: Veľkonočná nedeľa (6.3.2026)🕒 Čas: 10:00📍 Miesto: Kresťanské Spoločenstvo Poprad (Moyzesova 27\, Júh) \n📅 Kedy: Veľkonočná nedeľa (6.3.2026)🕒 Čas: 10:00📍 Miesto: BJB (Jahodná 5\, Veľká) \n  \nPríď spolu s nami prežiť tieto dni\, zastaviť sa\,\npozdvihnúť svoj pohľad k Bohu a osláviť radostnú správu evanjelia ❤️✝️ \nJežiš žije. On vstal z mŕtvych a prináša nádej každému človeku 🙌✨ \njeziszije.sk
URL:https://www.medzitatrami.sk/podujatia/zazi-velkonocne-bohosluzby-v-poprade
LOCATION:Medzi Tatrami\, Poprad\, 05801\, Slovakia (Slovak Republic)
CATEGORIES:Špeciálna bohoslužba
ATTACH;FMTTYPE=image/jpeg:https://www.medzitatrami.sk/wp-content/uploads/2026/03/Program-Promo-1.jpg
END:VEVENT
BEGIN:VEVENT
DTSTART;TZID=Europe/Bratislava:20260402T180000
DTEND;TZID=Europe/Bratislava:20260402T193000
DTSTAMP:20260425T200036
CREATED:20260319T075019Z
LAST-MODIFIED:20260319T075235Z
UID:1229-1775152800-1775158200@www.medzitatrami.sk
SUMMARY:TyMy & James Evans  – Tatranská galéria (Veľkonočný koncert)
DESCRIPTION:Veľkonočný koncert ✝️🎶 \nPríď zažiť výnimočný večer plný hudby\, chvál a posolstva Veľkej noci 🙌✨\nČaká ťa silná atmosféra\, ktorá pripomína tú najväčšiu pravdu – Ježiš žije a prináša nádej každému človeku ❤️ \nVystúpi kapela TyMy spolu s Jamesom Evansom 🎤🔥 \n📅 Kedy: 2. apríl\n🕒 Čas: 18:00\n📍 Miesto: Tatranská galéria\, Poprad \nVSTUP JE VOĽNÝ! \nPríď a pozvi aj svojich priateľov – tešíme sa na spoločný večer plný radosti a nádeje 🙏✨ \nhttps://www.tymy.sk/
URL:https://www.medzitatrami.sk/podujatia/tymy-james-tatranska-galeria
LOCATION:Tatranská galéria\, Hviezdoslavova 341/12\,\, Poprad\, 058 01\, Slovakia (Slovak Republic)
CATEGORIES:Koncert
ATTACH;FMTTYPE=image/jpeg:https://www.medzitatrami.sk/wp-content/uploads/2026/03/Program-Promo-1-2.jpg
END:VEVENT
BEGIN:VEVENT
DTSTART;TZID=Europe/Bratislava:20260402T180000
DTEND;TZID=Europe/Bratislava:20260402T200000
DTSTAMP:20260425T200036
CREATED:20260325T121040Z
LAST-MODIFIED:20260325T121040Z
UID:1254-1775152800-1775160000@www.medzitatrami.sk
SUMMARY:Večer slova a hudby – Noc v Getsemane
DESCRIPTION:Večer slova a hudby – Noc v Getsemane: Láska s dokonalým motívom ✝️🎶 \nPozývame ťa stráviť Zelený štvrtok (2. apríla) večerom\, ktorý spája slovo a hudbu v hlbokom zamyslení nad Ježišovou obetou a dokonalou láskou ❤️ \n📅 Dátum: 2. apríl – Zelený štvrtok\n🕒 Čas: 18:00\n📍 Miesto: BJB\, Jahodná 5\, Poprad \nPríď načerpať pokoj\, inšpiráciu a duchovnú hĺbku pred veľkonočnými sviatkami 🙏✨ \nVečer je otvorený pre každého\, kto chce bližšie porozumieť Kristovej láske a prežiť nezabudnuteľný duchovný zážitok prostredníctvom hudby a slova.
URL:https://www.medzitatrami.sk/podujatia/vecer-slova-a-hudby-noc-v-getsemane
LOCATION:Poprad Veľká (Jahodná 5) BJB\, Jahodná 5 (BJB)\, Poprad\, Slovensko\, 05801\, Slovakia (Slovak Republic)
CATEGORIES:Iné,Špeciálna bohoslužba,Stretko pre všetkých
ATTACH;FMTTYPE=image/jpeg:https://www.medzitatrami.sk/wp-content/uploads/2026/03/Program-Promo-1-4.jpg
END:VEVENT
END:VCALENDAR