BEGIN:VCALENDAR
VERSION:2.0
PRODID:-//Medzi Tatrami - Kresťania - ECPv6.15.11//NONSGML v1.0//EN
CALSCALE:GREGORIAN
METHOD:PUBLISH
X-WR-CALNAME:Medzi Tatrami - Kresťania
X-ORIGINAL-URL:https://www.medzitatrami.sk
X-WR-CALDESC:Udalosti pre Medzi Tatrami - Kresťania
REFRESH-INTERVAL;VALUE=DURATION:PT1H
X-Robots-Tag:noindex
X-PUBLISHED-TTL:PT1H
BEGIN:VTIMEZONE
TZID:Europe/Bratislava
BEGIN:DAYLIGHT
TZOFFSETFROM:+0100
TZOFFSETTO:+0200
TZNAME:CEST
DTSTART:20250330T010000
END:DAYLIGHT
BEGIN:STANDARD
TZOFFSETFROM:+0200
TZOFFSETTO:+0100
TZNAME:CET
DTSTART:20251026T010000
END:STANDARD
BEGIN:DAYLIGHT
TZOFFSETFROM:+0100
TZOFFSETTO:+0200
TZNAME:CEST
DTSTART:20260329T010000
END:DAYLIGHT
BEGIN:STANDARD
TZOFFSETFROM:+0200
TZOFFSETTO:+0100
TZNAME:CET
DTSTART:20261025T010000
END:STANDARD
BEGIN:DAYLIGHT
TZOFFSETFROM:+0100
TZOFFSETTO:+0200
TZNAME:CEST
DTSTART:20270328T010000
END:DAYLIGHT
BEGIN:STANDARD
TZOFFSETFROM:+0200
TZOFFSETTO:+0100
TZNAME:CET
DTSTART:20271031T010000
END:STANDARD
END:VTIMEZONE
BEGIN:VEVENT
DTSTART;VALUE=DATE:20260414
DTEND;VALUE=DATE:20260422
DTSTAMP:20260425T200004
CREATED:20260414T103452Z
LAST-MODIFIED:20260414T105646Z
UID:1282-1776124800-1776815999@www.medzitatrami.sk
SUMMARY:Poďme spolu zachrániť detské ihrisko
DESCRIPTION:Pri Modlitebni Bratskej jednoty baptistov na Jahodnej 5 stojí detské ihrisko\, ktoré už roky slúži deťom z okolia. Žiaľ\, pôvodné drevené ihrisko je dnes rozpadnuté a prestáva byť bezpečné. \n  \nPreto sme sa zapojili do participatívneho rozpočtu Prešovského samosprávneho kraja (https://psk.sk/domov/samosprava/vyzvy-granty-a-dotacie/poskytovanie-dotacii/dotacna-schema-2026/vyzva-participativny-rozpocet-2026/vyzva-participativny-rozpocet-2026-sms-hlasovanie/). Ak získame dostatok hlasov\, môžeme toto miesto premeniť na moderný a bezpečný priestor\, kde sa deti budú hrávať bez obáv. \n \nAko môžete pomôcť?\nPošlite SMS v tvare PSK20 na číslo 0940 682 188.\nHlasovať môžete do 21. apríla 2025.\nZ jedného telefónneho čísla je možné zaslať hlas iba raz. Preto prosíme\, ak vám na tomto projekte záleží\, povzbuďte aj svojich blízkych\, priateľov a susedov\, aby zahlasovali tiež. \nKaždý jeden hlas sa počíta. \nĎakujeme. \n  \n\n(Iniciatíva MedziTatrami zatiaľ nespolupracuje s Spolu Tvoríme Poprad. Prezdieľavame to kvôli priateľom.) \n  \n\n 
URL:https://www.medzitatrami.sk/podujatia/ihrisko
LOCATION:Medzi Tatrami\, Poprad\, 05801\, Slovakia (Slovak Republic)
CATEGORIES:Iné
ATTACH;FMTTYPE=image/png:https://www.medzitatrami.sk/wp-content/uploads/2026/04/Snimka-obrazovky-2026-04-14-o-12.40.11.png
END:VEVENT
END:VCALENDAR