BEGIN:VCALENDAR
VERSION:2.0
PRODID:-//Medzi Tatrami - Kresťania - ECPv6.15.11//NONSGML v1.0//EN
CALSCALE:GREGORIAN
METHOD:PUBLISH
X-WR-CALNAME:Medzi Tatrami - Kresťania
X-ORIGINAL-URL:https://www.medzitatrami.sk
X-WR-CALDESC:Udalosti pre Medzi Tatrami - Kresťania
REFRESH-INTERVAL;VALUE=DURATION:PT1H
X-Robots-Tag:noindex
X-PUBLISHED-TTL:PT1H
BEGIN:VTIMEZONE
TZID:Europe/Bratislava
BEGIN:DAYLIGHT
TZOFFSETFROM:+0100
TZOFFSETTO:+0200
TZNAME:CEST
DTSTART:20250330T010000
END:DAYLIGHT
BEGIN:STANDARD
TZOFFSETFROM:+0200
TZOFFSETTO:+0100
TZNAME:CET
DTSTART:20251026T010000
END:STANDARD
BEGIN:DAYLIGHT
TZOFFSETFROM:+0100
TZOFFSETTO:+0200
TZNAME:CEST
DTSTART:20260329T010000
END:DAYLIGHT
BEGIN:STANDARD
TZOFFSETFROM:+0200
TZOFFSETTO:+0100
TZNAME:CET
DTSTART:20261025T010000
END:STANDARD
BEGIN:DAYLIGHT
TZOFFSETFROM:+0100
TZOFFSETTO:+0200
TZNAME:CEST
DTSTART:20270328T010000
END:DAYLIGHT
BEGIN:STANDARD
TZOFFSETFROM:+0200
TZOFFSETTO:+0100
TZNAME:CET
DTSTART:20271031T010000
END:STANDARD
END:VTIMEZONE
BEGIN:VEVENT
DTSTART;TZID=Europe/Bratislava:20260425T180000
DTEND;TZID=Europe/Bratislava:20260425T193000
DTSTAMP:20260425T181537
CREATED:20260205T214657Z
LAST-MODIFIED:20260417T111504Z
UID:1149-1777140000-1777145400@www.medzitatrami.sk
SUMMARY:Spoločný večer chvál ACPP
DESCRIPTION:Pozývame Ťa na večer chvál a modlitieb 🙌🔥\nVečer\, kde nejde o značku\, názov ani rozdiely – ale o Ježiša Krista. \nKde:📍 Miesto: AC Poprad (Nábrežie Jána Pavla II 439/16\, Poprad\nKedy:  25.Apríla  2026 o 18:00 ⏰\nVstup: voľný 🎟️\nS kapelou / službou: ACPP \nNaším cieľom je spojiť sa ako kresťania z rôznych cirkví a spoločenstiev 🤝❤️\nNie preto\, aby sme riešili rozdiely\, ale aby sme sa zjednotili v modlitbách za naše mesto Poprad\, za Cirkev a za ľudí\, ktorí ešte nepoznajú Krista. \nChceme spolu volať k Bohu\, vyvýšiť Ježiša a dať priestor Duchu Svätému\, aby konal –\naby sa evanjelium šírilo\, srdcia sa otvárali a aby sme ako Cirkev naplnili Veľké poslanie ✝️🔥 \n📖 „Aby všetci boli jedno… aby svet uveril.“ (Ján 17:21)\n📖 „Choďte teda a získavajte mi učeníkov zo všetkých národov…“ (Matúš 28:19) \n🔥 Čakajú nás chvály\, spoločná modlitba\, Božia prítomnosť a priestor pre dotyk\, ktorý mení srdce.\nAk túžiš po občerstvení\, pokoji\, nádeji – alebo len potrebuješ byť chvíľu pred Bohom – si vítaný. \n👉 Je to otvorené pre každého.\n👉 Bez ohľadu na denomináciu či spoločenstvo.\n👉 Spája nás jeden Pán a jedna misia – priniesť Krista ľuďom. \n\n🎶 Spoločné chvály a modlitby budú raz za mesiac v Poprade\n📅 vždy poslednú sobotu v mesiaci\n📍 miesto aj kapela sa budú striedať \nSme rôzni – ale Ježiš je jeden 🙌🔥\nTešíme sa na spoločný čas modlitieb za naše mesto. \n 
URL:https://www.medzitatrami.sk/podujatia/spolocny-vecer-chval
LOCATION:AC Poprad (Na. Jána Pavla II 439/16)\, Nábrežie Jána Pavla II 439/16\,\, Poprad\, 058 01\, Slovakia (Slovak Republic)
CATEGORIES:Stretko pre všetkých,Večer chvál
ATTACH;FMTTYPE=image/jpeg:https://www.medzitatrami.sk/wp-content/uploads/2026/02/Program-Promo-1-2.jpg
END:VEVENT
BEGIN:VEVENT
DTSTART;TZID=Europe/Bratislava:20260430T170000
DTEND;TZID=Europe/Bratislava:20260430T183000
DTSTAMP:20260425T181537
CREATED:20251111T101504Z
LAST-MODIFIED:20260424T184835Z
UID:220-1777568400-1777573800@www.medzitatrami.sk
SUMMARY:The Chosen Klub - v Kine Tatran
DESCRIPTION:Nezmeškajte jedinečnú príležitosť! 🎬✨ Pozrite si The Chosen v kvalite kina 🎥 + bezpečnú a otvorenú diskusiu 💬\, autentické príbehy 📖 a občerstvenie 🍿☕. \n📅 (skoro) Každý piatok 20.4.2026 (POZOR ŠTVRTOK!)🕔 17:00📍 Kino Tatran\, Poprad🎟️ Vstup je voľný🇸🇰  Kvalitný slovenský dabing \n \n  \nSpoločne si pozrieme jednu epizódu seriálu The Chosen – krásne\, autentické spracovanie príbehu Ježiša a ľudí\, ktorých osobne stretol. Po filme je krátka otvorená diskusia (10min)\, kde môžeme zdieľať\, čo nás oslovilo a čo nám Boh ukazuje. Potom nejaký skutočný príbeh viery zo Slovenska k téme.  \n \nČaká nás:\n✅ Jedná epická časť zo seriálu✅ Priateľská atmosféra✅ Bezpečný priestor pre rozhovory✅ Priestor pre otázky a hľadanie pravdy✅ Na záver nejaký autentický príbeh viery + diskusia✅ Po skončení ideme si zvyčajne niekde ešte sadnúť do npr: cukrárne – samozrejme kto chce. \n🥨 Na mieste si môžeš kúpiť popcorn\, chrumky alebo nápoj v bufete Kina Tatran. \n🎉 Vítaný je každý! Nie je potrebné byť veriaci ani mať veľké biblické znalosti. Stačí prísť otvorené pre každého. \nTešíme sa na teba! 🙌 \nThe Chosen Klub – príbehy\, ktoré hovoria k srdcu. \n\n \n  \n  \nČastá otázka:\nČo ak som zmeškal nejakú časť? Oplatí sa mi prísť? ✅Určite áno! 😊 Každá časť\, aj keď je súčasťou väčšieho celku\, obsahuje jedinečnú biblickú myšlienku a príbeh. 📖Je to podobné ako s kázňami – každá biblická kázeň je jedna súčiastka z celej škály biblických príbehov.  \n  \n\n  \n📅 THE CHOSEN – SÉRIA 3 | TÝŽDENNÝ ROZPIS\n24.4. – Návrat Domov (Homecoming)Ježiš prednáša najdôležitejšiu kázeň v dejinách. Výsledok? Viac nasledovníkov\, viac nepriateľov a učeníkov pripravených nasledovať Ježiša kdekoľvek. Šimon a Eden sa znovu spájajú\, Matúš čelí svojej minulosti a Andrew navštívi Jána Krstiteľa vo väzení. \n30.4 (ŠTVRTOK!!). – Dvaja a dvaja (Two by Two)Ježiš je pre Rimanov problémom. Keď pútnici odvšade postavili stanové mesto pri bránach Kafarnauma\, aby videli Ježiša\, napätie stúpa. Ježiš oficiálne posiela dvanástich apoštolov na vzrušujúcu\, ale nebezpečnú misiu\, aby sa Malý Jakub opýtal\, prečo nebol uzdravený. \n8.5. – Lekár\, uzdrav sa sám (Physician\, Heal Yourself)Ježiš sa vracia do Nazareta na sviatok. Rodina a známi očakávajú odpovede – no keď im zjaví pravdu o sebe\, prichádza napätie a odmietnutie. \n15.5. – Čistý\, 1. časť (Clean\, Part 1)Učeníci sa vracajú z misie a snažia sa pochopiť\, čo Boh cez nich robil. Nie všetko dáva zmysel – a nie každý je pripravený na to\, čo sa stalo.  \n22.5. – Čistý\, 2. časť (Clean\, Part 2)Napätie sa stupňuje. Ľudia v zúfalstve hľadajú Ježiša ako jedinú nádej – niektorí kvôli životu a smrti.  \n28.5. (ŠTVRTOK!!) – Intenzita v stane (Intensity in Tent City)Dôsledky misie sa vracajú späť. Niektoré rozhodnutia prinášajú nečakané následky a minulosť začína dobiehať učeníkov.  \n5.6. – Počúvajte! (Ears to Hear)Po správe o kríze sa Ježiš a učeníci vydávajú na nebezpečnú cestu. Nie každý je pripravený počuť pravdu.  \n12.6. – Utrpenie (Sustenance)Tisíce ľudí počúvajú Ježiša celé dni… ale prichádza problém: nemajú čo jesť. A Boh opäť ukáže svoju moc. \n 
URL:https://www.medzitatrami.sk/podujatia/the-chosen-klub-poprad
LOCATION:Kino Tatran\, Námestie svätého Egídia 43/86\,\, Poprad\, 058 01\, Slovakia (Slovak Republic)
CATEGORIES:Premietanie
ATTACH;FMTTYPE=image/jpeg:https://www.medzitatrami.sk/wp-content/uploads/2025/11/the-chosen.jpg
END:VEVENT
END:VCALENDAR