BEGIN:VCALENDAR
VERSION:2.0
PRODID:-//Medzi Tatrami - Kresťania - ECPv6.15.11//NONSGML v1.0//EN
CALSCALE:GREGORIAN
METHOD:PUBLISH
X-WR-CALNAME:Medzi Tatrami - Kresťania
X-ORIGINAL-URL:https://www.medzitatrami.sk
X-WR-CALDESC:Udalosti pre Medzi Tatrami - Kresťania
REFRESH-INTERVAL;VALUE=DURATION:PT1H
X-Robots-Tag:noindex
X-PUBLISHED-TTL:PT1H
BEGIN:VTIMEZONE
TZID:Europe/Bratislava
BEGIN:DAYLIGHT
TZOFFSETFROM:+0100
TZOFFSETTO:+0200
TZNAME:CEST
DTSTART:20250330T010000
END:DAYLIGHT
BEGIN:STANDARD
TZOFFSETFROM:+0200
TZOFFSETTO:+0100
TZNAME:CET
DTSTART:20251026T010000
END:STANDARD
BEGIN:DAYLIGHT
TZOFFSETFROM:+0100
TZOFFSETTO:+0200
TZNAME:CEST
DTSTART:20260329T010000
END:DAYLIGHT
BEGIN:STANDARD
TZOFFSETFROM:+0200
TZOFFSETTO:+0100
TZNAME:CET
DTSTART:20261025T010000
END:STANDARD
BEGIN:DAYLIGHT
TZOFFSETFROM:+0100
TZOFFSETTO:+0200
TZNAME:CEST
DTSTART:20270328T010000
END:DAYLIGHT
BEGIN:STANDARD
TZOFFSETFROM:+0200
TZOFFSETTO:+0100
TZNAME:CET
DTSTART:20271031T010000
END:STANDARD
END:VTIMEZONE
BEGIN:VEVENT
DTSTART;TZID=Europe/Bratislava:20260404T180000
DTEND;TZID=Europe/Bratislava:20260404T200000
DTSTAMP:20260425T200217
CREATED:20260316T094716Z
LAST-MODIFIED:20260324T103003Z
UID:1207-1775325600-1775332800@www.medzitatrami.sk
SUMMARY:Večer chval a svedectiev - ACPP Chvály
DESCRIPTION:🔥 Sobota – večer svedectiev a chvál \nPozývame ťa na večer chvál\, svedectiev a Božej prítomnosti počas veľkonočného víkendu 🙌✨Príď sa zastaviť\, načerpať a osláviť spolu s nami dobrú správu evanjelia – že Ježiš žije a mení ľudské životy ✝️❤️ \nPočas večera zaznejú chvály\, osobné svedectvá o tom\, čo Boh robí v životoch ľudí\, a bude priestor aj na spoločnú modlitbu. \nAk túžiš po povzbudení\, nádeji alebo chceš len stráviť čas v Božej prítomnosti – si srdečne vítaný. \n📅 Kedy: Veľkonočná buela sobota (4.4.2026)🕒 Čas: 18:00📍 Miesto: AC Poprad🎶 Chvály: Kapela AC Poprad \nPríď a preži večer\, ktorý pripomína najväčšiu pravdu Veľkej noci – Ježiš žije 🙌🔥
URL:https://www.medzitatrami.sk/podujatia/vecer-chval-acpp
LOCATION:AC Poprad (Na. Jána Pavla II 439/16)\, Nábrežie Jána Pavla II 439/16\,\, Poprad\, 058 01\, Slovakia (Slovak Republic)
CATEGORIES:Večer chvál
ATTACH;FMTTYPE=image/jpeg:https://www.medzitatrami.sk/wp-content/uploads/2026/03/sobota.jpg
END:VEVENT
END:VCALENDAR